Workbook
Name Loyers_Annee: 'Loyers Montréal'!$B$6:$B$141
Name Loyers_Type: 'Loyers Montréal'!$C$6:$C$141
Name Loyers_Montant: 'Loyers Montréal'!$D$6:$D$141
Name Villes_Annees: 'Grandes villes'!$B$6:$B$39
Name Villes_Loyers: 'Grandes villes'!$C$6:$H$39
Name Villes_Noms: 'Grandes villes'!$C$5:$H$5
Name IPC_Annee: 'IPC Montréal'!$B$6:$B$39
Name IPC_Valeur: 'IPC Montréal'!$C$6:$C$39
Name IPCP_Annee: 'IPC provinces'!$B$6:$B$82
Name IPCP_Code: 'IPC provinces'!$C$6:$C$82
Name IPCP_Loyer: 'IPC provinces'!$E$6:$E$82
Name IPCP_Ens: 'IPC provinces'!$F$6:$F$82
Name T_Periode: 'Loyers trimestriels'!$B$6:$B$133
Name T_ID: 'Loyers trimestriels'!$C$6:$C$133
Name T_Est: 'Loyers trimestriels'!$E$6:$E$133
Name T_Loyer: 'Loyers trimestriels'!$F$6:$F$133
Name SCHL_Annee: 'SCHL'!$B$6:$B$15
Name SCHL_Indic: 'SCHL'!$C$6:$C$15
Name SCHL_Valeur: 'SCHL'!$D$6:$D$15
Name ListeIndProv: Calculs!$A$76:$A$78
Name ListeIndVille: Calculs!$C$76:$C$78
Name V_AB: Calculs!$M$82
Name V_BC: Calculs!$M$83
Name V_MB: Calculs!$M$84
Name V_NB: Calculs!$M$85
Name V_NS: Calculs!$M$86
Name V_ON: Calculs!$M$87
Name V_QC: Calculs!$M$88
Name V_SK: Calculs!$M$89
Name V_NL: Calculs!$M$90
Name V_PE: Calculs!$M$91
Name V_CA: Calculs!$M$92
Name ProvNoms: Calculs!$B$82:$B$91
Name ProvCodes: Calculs!$A$82:$A$91
Name ProvValeurs: Calculs!$M$82:$M$91
Name ProvRangs: Calculs!$O$82:$O$91
Name QC_Hausse_2025: Calculs!$AC$88
Name QC_Rang_2025: Calculs!$AD$88
Name Seuils_Prov: Calculs!$B$94:$B$98
Name ProvSelCode: Calculs!$F$94
Name V_Noms: Calculs!$B$112:$B$127
Name V_Valeurs: Calculs!$K$112:$K$127
Name V_Rangs: Calculs!$N$112:$N$127
Name Seuils_Ville: Calculs!$B$130:$B$134
Name VilleSelRow: Calculs!$F$130
Name VilleSelID: Calculs!$F$131
Name VillePct: Calculs!$H$130
Name Debut: 'Tableau de bord'!$D$5
Name Fin: 'Tableau de bord'!$H$5
Name TypeLog: 'Tableau de bord'!$L$5
Name IndCarte: 'Carte provinces'!$D$5
Name AnneeCarte: 'Carte provinces'!$D$6
Name ProvSel: 'Carte provinces'!$I$5
Name IndVilles: 'Carte villes'!$D$5
Name VilleSel: 'Carte villes'!$D$6
Name Scen_Base: 'Scénarios'!$E$6
Name Scen_Taux: 'Scénarios'!$G$11:$G$13

Sheet Accueil
B1: À Montréal, qui paie vraiment la hausse des loyers ?
B2: Classeur d'analyse · Projet « Loyers à Montréal, 1992-2026 »
B5: Réponse courte : ceux qui déménagent. Les quatre chiffres ci-dessous sont recalculés par les formules du classeur.
B7: ANNONCE MOINS LOYER PAYÉ, 2026 T2 | E7: HAUSSE 2025 : RELOUÉS / EN PLACE | H7: HAUSSE RÉELLE D'UN 2 CH., 2019-2025 | K7: LOYER AU QUÉBEC EN 2025 (IPC)
B8: =SUMIFS(T_Loyer,T_ID,7,T_Est,"Demandé",T_Periode,"2026 T2")-SUMIFS(T_Loyer,T_ID,7,T_Est,"Payé",T_Periode,"2026 T2") | E8: =SUMIFS(SCHL_Valeur,SCHL_Annee,2025,SCHL_Indic,"hausse_loyer_reloues_2ch")/100 | H8: =(SUMIFS(Loyers_Montant,Loyers_Annee,2025,Loyers_Type,"2 chambres")/SUMIFS(Loyers_Montant,Loyers_Annee,2019,Loyers_Type,"2 chambres"))/(INDEX(IPC_Valeur,MATCH(2025,IPC_Annee,0))/INDEX(IPC_Valeur,MATCH(2019,IPC_Annee,0)))-1 | K8: =QC_Hausse_2025
B10: Par mois, 2 chambres à Montréal | E10: ="contre "&FIXED(SUMIFS(SCHL_Valeur,SCHL_Annee,2025,SCHL_Indic,"hausse_loyer_non_reloues_2ch"),1)&" % pour les locataires en place" | H10: ="Après inflation. De 1992 à 2019 : "&IF(((SUMIFS(Loyers_Montant,Loyers_Annee,2019,Loyers_Type,"2 chambres")/SUMIFS(Loyers_Montant,Loyers_Annee,1992,Loyers_Type,"2 chambres"))/(INDEX(IPC_Valeur,MATCH(2019,IPC_Annee,0))/INDEX(IPC_Valeur,MATCH(1992,IPC_Annee,0)))-1)>=0,"+","")&FIXED(((SUMIFS(Loyers_Montant,Loyers_Annee,2019,Loyers_Type,"2 chambres")/SUMIFS(Loyers_Montant,Loyers_Annee,1992,Loyers_Type,"2 chambres"))/(INDEX(IPC_Valeur,MATCH(2019,IPC_Annee,0))/INDEX(IPC_Valeur,MATCH(1992,IPC_Annee,0)))-1)*100,1)&" %" | K10: ="Rang "&QC_Rang_2025&" sur 10 provinces"
B13: Explorer le classeur
B15: =HYPERLINK("#'Tableau de bord'!A1","Tableau de bord") | E15: Choisis une période et un type de logement : indicateurs et graphiques se recalculent.
B17: =HYPERLINK("#'Carte provinces'!A1","Carte provinces") | E17: La carte du Canada : hausse des loyers par province, par année, avec classement.
B19: =HYPERLINK("#'Carte villes'!A1","Carte villes") | E19: Les 16 régions où l'on connaît le loyer demandé et le loyer payé. Choisis une ville.
B21: =HYPERLINK("#'Scénarios'!A1","Scénarios") | E21: Trois hypothèses jusqu'en 2030 et le délai pour que le loyer moyen rattrape les annonces.
B23: =HYPERLINK("#'Simulateur'!A1","Simulateur") | E23: Compare un loyer à la moyenne du marché et au prix d'un logement reloué.
B25: =HYPERLINK("#'Excel 365'!A1","Excel 365") | E25: Un portefeuille de logements lu avec RECHERCHEX, LET, FILTRE, TRIER et UNIQUE (Excel 2021 ou 365).
B27: =HYPERLINK("#'Mode d'emploi'!A1","Mode d'emploi") | E27: Chaque fonction du classeur, de la plus simple à la plus avancée, et trois exercices.
B30: Méthode
B31: • Sources : Statistique Canada (34-10-0133-01, 18-10-0005-01, 46-10-0092-01) et SCHL, Rapport sur le marché locatif 2025.
B32: • Dernières données : enquête SCHL d'octobre 2025, loyers demandés et payés de 2026 T2, IPC annuel 2025.
B33: • Chaque chiffre est recalculé ici par formules et vérifié contre la base SQL du projet à chaque construction.
B34: • Cases jaunes : entrées. Texte bleu : donnée source. Vert : valeur lue dans une autre feuille. Noir : calcul. Aucune macro.

Sheet Tableau de bord
B1: Tableau de bord : loyers à Montréal, 1992-2025 | N1: =HYPERLINK("#'Accueil'!A1","← Accueil")
B2: Modifie les cases jaunes : les 4 indicateurs et les 4 graphiques se recalculent
B5: Année de début | D5: 2019 | F5: Année de fin | H5: 2025 | J5: Logement | L5: 2 chambres
B6: =IF(Debut>=Fin,"L'année de début doit précéder l'année de fin.","")
B8: LOYER MOYEN, ANNÉE DE FIN | E8: HAUSSE RÉELLE (APRÈS INFLATION) | H8: RYTHME ANNUEL RÉEL | K8: PRIME DE RELOCATION 2025 (2 CH.)
B9: =SUMIFS(Loyers_Montant,Loyers_Annee,Fin,Loyers_Type,TypeLog) | E9: =(SUMIFS(Loyers_Montant,Loyers_Annee,Fin,Loyers_Type,TypeLog)/SUMIFS(Loyers_Montant,Loyers_Annee,Debut,Loyers_Type,TypeLog))/(INDEX(IPC_Valeur,MATCH(Fin,IPC_Annee,0))/INDEX(IPC_Valeur,MATCH(Debut,IPC_Annee,0)))-1 | H9: =IFERROR((1+E9)^(1/(Fin-Debut))-1,0) | K9: =SUMIFS(SCHL_Valeur,SCHL_Annee,2025,SCHL_Indic,"loyer_moyen_reloues_2ch")-SUMIFS(Loyers_Montant,Loyers_Annee,2025,Loyers_Type,"2 chambres")
B11: =TypeLog&", octobre "&Fin | E11: Hausse nominale | G11: =SUMIFS(Loyers_Montant,Loyers_Annee,Fin,Loyers_Type,TypeLog)/SUMIFS(Loyers_Montant,Loyers_Annee,Debut,Loyers_Type,TypeLog)-1 | H11: ="Croissance composée sur "&(Fin-Debut)&" ans" | K11: Loyer d'un 2 ch. reloué | M11: =SUMIFS(SCHL_Valeur,SCHL_Annee,2025,SCHL_Indic,"loyer_moyen_reloues_2ch")
B49: Sources : Statistique Canada 34-10-0133-01, 18-10-0005-01 ; SCHL, Rapport sur le marché locatif 2025.

Sheet Carte provinces
B1: Carte du Canada : où les loyers montent-ils le plus vite ? | P1: =HYPERLINK("#'Accueil'!A1","← Accueil")
B2: Indice des prix du loyer par province · choisis l'indicateur, l'année et la province (cases jaunes)
B5: Indicateur | D5: Hausse des loyers sur un an | H5: Province | I5: Québec
B6: Année | D6: 2025 | F6: ="Hausse de "&(AnneeCarte-1)&" à "&AnneeCarte&" pour l'indicateur sur un an"
L8: CLASSEMENT DES PROVINCES
L9: Province | M9: Valeur | N9: Rang | O9: Écart au Canada
L10: =Calculs!AA82 | M10: =Calculs!AB82 | N10: 1 | O10: =(M10-V_CA)*100
L11: =Calculs!AA83 | M11: =Calculs!AB83 | N11: 2 | O11: =(M11-V_CA)*100
L12: =Calculs!AA84 | M12: =Calculs!AB84 | N12: 3 | O12: =(M12-V_CA)*100
L13: =Calculs!AA85 | M13: =Calculs!AB85 | N13: 4 | O13: =(M13-V_CA)*100
L14: =Calculs!AA86 | M14: =Calculs!AB86 | N14: 5 | O14: =(M14-V_CA)*100
L15: =Calculs!AA87 | M15: =Calculs!AB87 | N15: 6 | O15: =(M15-V_CA)*100
L16: =Calculs!AA88 | M16: =Calculs!AB88 | N16: 7 | O16: =(M16-V_CA)*100
L17: =Calculs!AA89 | M17: =Calculs!AB89 | N17: 8 | O17: =(M17-V_CA)*100
L18: =Calculs!AA90 | M18: =Calculs!AB90 | N18: 9 | O18: =(M18-V_CA)*100
L19: =Calculs!AA91 | M19: =Calculs!AB91 | N19: 10 | O19: =(M19-V_CA)*100
L20: Canada (référence) | M20: =V_CA
L22: PROVINCE CHOISIE
L23: =ProvSel
L24: Valeur de l'indicateur | N24: =INDEX(ProvValeurs,MATCH(ProvSel,ProvNoms,0))
L25: Rang sur 10 provinces | N25: =INDEX(ProvRangs,MATCH(ProvSel,ProvNoms,0))
L26: ="Hausse sur un an ("&AnneeCarte&")" | N26: =INDEX(Calculs!$J$82:$J$91,MATCH(ProvSel,ProvNoms,0))
L27: ="Hausse 2019 → "&AnneeCarte | N27: =INDEX(Calculs!$K$82:$K$91,MATCH(ProvSel,ProvNoms,0))
L28: ="Hausse réelle 2019 → "&AnneeCarte | N28: =INDEX(Calculs!$L$82:$L$91,MATCH(ProvSel,ProvNoms,0))
B31: LÉGENDE : QUINTILES DE L'INDICATEUR (UNE COULEUR = 2 PROVINCES)
C32: ="≥ "&Calculs!C94 | E32: ="≥ "&Calculs!C95 | G32: ="≥ "&Calculs!C96 | I32: ="≥ "&Calculs!C97 | K32: ="≥ "&Calculs!C98
B34: Contours : Natural Earth (domaine public), projection conique conforme de Lambert (paramètres de Statistique Canada), calculée par src/geo.py. Territoires : pas d'IPC provincial publié.

Sheet Carte villes
B1: Carte des villes : combien coûte un déménagement ? | P1: =HYPERLINK("#'Accueil'!A1","← Accueil")
B2: Appartements de 2 chambres, 2026 T2 · loyer demandé dans les annonces contre loyer payé par les locataires en place · 16 régions
B5: Indicateur | D5: Écart entre loyer demandé et loyer payé (%)
B6: Ville | D6: Montréal
L8: VILLE CHOISIE
L9: =VilleSel
L10: Loyer demandé (annonces) | N10: =INDEX(Calculs!$G$112:$G$127,VilleSelRow)
L11: Loyer payé (locataires en place) | N11: =INDEX(Calculs!$H$112:$H$127,VilleSelRow)
L12: Écart par mois | N12: =INDEX(Calculs!$I$112:$I$127,VilleSelRow)
L13: Écart en % | N13: =INDEX(Calculs!$J$112:$J$127,VilleSelRow)
L14: Rang pour l'indicateur | N14: =INDEX(V_Rangs,VilleSelRow)&" sur 16"
L15: Les 16 régions où les deux loyers sont publiés pour 2026 T2.
L17: LÉGENDE : QUINTILES DE L'INDICATEUR
L18: ="Classe 1 : à partir de "&Calculs!C130
L19: ="Classe 2 : à partir de "&Calculs!C131
L20: ="Classe 3 : à partir de "&Calculs!C132
L21: ="Classe 4 : à partir de "&Calculs!C133
L22: ="Classe 5 : à partir de "&Calculs!C134
L24: LES 10 PREMIÈRES RÉGIONS
L25: Région | M25: Valeur | O25: Rang
L26: =Calculs!B138 | M26: =Calculs!D138 | N26: =Calculs!C138 | O26: 1
L27: =Calculs!B139 | M27: =Calculs!D139 | N27: =Calculs!C139 | O27: 2
L28: =Calculs!B140 | M28: =Calculs!D140 | N28: =Calculs!C140 | O28: 3
L29: =Calculs!B141 | M29: =Calculs!D141 | N29: =Calculs!C141 | O29: 4
L30: =Calculs!B142 | M30: =Calculs!D142 | N30: =Calculs!C142 | O30: 5
L31: =Calculs!B143 | M31: =Calculs!D143 | N31: =Calculs!C143 | O31: 6
L32: =Calculs!B144 | M32: =Calculs!D144 | N32: =Calculs!C144 | O32: 7
L33: =Calculs!B145 | M33: =Calculs!D145 | N33: =Calculs!C145 | O33: 8
L34: =Calculs!B146 | M34: =Calculs!D146 | N34: =Calculs!C146 | O34: 9
L35: =Calculs!B147 | M35: =Calculs!D147 | N35: =Calculs!C147 | O35: 10
L51: REPÈRES DU MARCHÉ (CALCULÉS SUR LE TABLEAU SOURCE)
L52: Loyer demandé le plus élevé | N52: =_xlfn.MAXIFS(T_Loyer,T_Est,"Demandé",T_Periode,"2026 T2") | O52: =INDEX(V_Noms,MATCH(N52,Calculs!$G$112:$G$127,0))
L53: Loyer demandé le plus bas | N53: =_xlfn.MINIFS(T_Loyer,T_Est,"Demandé",T_Periode,"2026 T2") | O53: =INDEX(V_Noms,MATCH(N53,Calculs!$G$112:$G$127,0))
B58: Positions : projection conique conforme de Lambert (src/geo.py). Contours : Natural Earth. Estimations expérimentales de Statistique Canada (46-10-0092-01).

Sheet Scénarios
B1: Scénarios : quand le loyer moyen rattrapera-t-il les annonces ? | U1: =HYPERLINK("#'Accueil'!A1","← Accueil")
B2: Loyer moyen d'un 2 chambres à Montréal · trois hypothèses tirées des données · des scénarios pour raisonner, pas une prévision
B5: POINT DE DÉPART
B6: Loyer moyen 2025, tous les locataires | E6: =SUMIFS(Loyers_Montant,Loyers_Annee,2025,Loyers_Type,"2 chambres")
B7: Loyer demandé dans les annonces, 2026 T2 | E7: =SUMIFS(T_Loyer,T_ID,7,T_Est,"Demandé",T_Periode,"2026 T2")
B9: HYPOTHÈSES DE CROISSANCE ANNUELLE
B10: Scénario | D10: Source du taux | E10: Taux tiré des données | F10: Ajustement (points) | G10: Taux retenu | H10: Rattrape les annonces en
B11: A · Tendance longue | D11: Croissance annuelle composée 1992-2019 | E11: =(SUMIFS(Loyers_Montant,Loyers_Annee,2019,Loyers_Type,"2 chambres")/SUMIFS(Loyers_Montant,Loyers_Annee,1992,Loyers_Type,"2 chambres"))^(1/27)-1 | F11: 0 | G11: =E11+F11 | H11: =IF(G11<=0,"jamais",ROUNDUP(NPER(G11,0,-$E$6,$E$7),0)&" ans ("&(2025+ROUNDUP(NPER(G11,0,-$E$6,$E$7),0))&")")
B12: B · Locataires en place | D12: Hausse 2025 des loyers non reloués (SCHL) | E12: =SUMIFS(SCHL_Valeur,SCHL_Annee,2025,SCHL_Indic,"hausse_loyer_non_reloues_2ch")/100 | F12: 0 | G12: =E12+F12 | H12: =IF(G12<=0,"jamais",ROUNDUP(NPER(G12,0,-$E$6,$E$7),0)&" ans ("&(2025+ROUNDUP(NPER(G12,0,-$E$6,$E$7),0))&")")
B13: C · Rythme récent | D13: Croissance annuelle composée 2019-2025 | E13: =(SUMIFS(Loyers_Montant,Loyers_Annee,2025,Loyers_Type,"2 chambres")/SUMIFS(Loyers_Montant,Loyers_Annee,2019,Loyers_Type,"2 chambres"))^(1/6)-1 | F13: 0 | G13: =E13+F13 | H13: =IF(G13<=0,"jamais",ROUNDUP(NPER(G13,0,-$E$6,$E$7),0)&" ans ("&(2025+ROUNDUP(NPER(G13,0,-$E$6,$E$7),0))&")")
B15: « Rattrape les annonces » : années pour que le loyer moyen atteigne le loyer affiché aujourd'hui (fonction NPM).
B17: Année | C17: Loyer moyen | E17: Année | F17: A · Tendance | G17: B · En place | H17: C · Récent
B18: 2015 | C18: =SUMIFS(Loyers_Montant,Loyers_Annee,2015,Loyers_Type,"2 chambres") | E18: 2026 | F18: =$E$6*(1+$G$11)^(2026-2025) | G18: =$E$6*(1+$G$12)^(2026-2025) | H18: =$E$6*(1+$G$13)^(2026-2025)
B19: 2016 | C19: =SUMIFS(Loyers_Montant,Loyers_Annee,2016,Loyers_Type,"2 chambres") | E19: 2027 | F19: =$E$6*(1+$G$11)^(2027-2025) | G19: =$E$6*(1+$G$12)^(2027-2025) | H19: =$E$6*(1+$G$13)^(2027-2025)
B20: 2017 | C20: =SUMIFS(Loyers_Montant,Loyers_Annee,2017,Loyers_Type,"2 chambres") | E20: 2028 | F20: =$E$6*(1+$G$11)^(2028-2025) | G20: =$E$6*(1+$G$12)^(2028-2025) | H20: =$E$6*(1+$G$13)^(2028-2025)
B21: 2018 | C21: =SUMIFS(Loyers_Montant,Loyers_Annee,2018,Loyers_Type,"2 chambres") | E21: 2029 | F21: =$E$6*(1+$G$11)^(2029-2025) | G21: =$E$6*(1+$G$12)^(2029-2025) | H21: =$E$6*(1+$G$13)^(2029-2025)
B22: 2019 | C22: =SUMIFS(Loyers_Montant,Loyers_Annee,2019,Loyers_Type,"2 chambres") | E22: 2030 | F22: =$E$6*(1+$G$11)^(2030-2025) | G22: =$E$6*(1+$G$12)^(2030-2025) | H22: =$E$6*(1+$G$13)^(2030-2025)
B23: 2020 | C23: =SUMIFS(Loyers_Montant,Loyers_Annee,2020,Loyers_Type,"2 chambres")
B24: 2021 | C24: =SUMIFS(Loyers_Montant,Loyers_Annee,2021,Loyers_Type,"2 chambres")
B25: 2022 | C25: =SUMIFS(Loyers_Montant,Loyers_Annee,2022,Loyers_Type,"2 chambres")
B26: 2023 | C26: =SUMIFS(Loyers_Montant,Loyers_Annee,2023,Loyers_Type,"2 chambres")
B27: 2024 | C27: =SUMIFS(Loyers_Montant,Loyers_Annee,2024,Loyers_Type,"2 chambres")
B28: 2025 | C28: =SUMIFS(Loyers_Montant,Loyers_Annee,2025,Loyers_Type,"2 chambres")

Sheet Simulateur
B1: Simulateur : ton loyer face au marché montréalais | I1: =HYPERLINK("#'Accueil'!A1","← Accueil")
B2: Modifie uniquement les cellules jaunes ; tout le reste se recalcule, y compris le graphique
B4: ENTRÉES | F4: COMPARAISON
B5: Loyer mensuel actuel ($) | C5: 1250 | D5: Exemple : 1 250 $. Remplace par ton loyer. | F5: Ton loyer | G5: =C5
B6: Type de logement | C6: 2 chambres | D6: Liste déroulante. | F6: Moyenne, tous locataires | G6: =C11
B7: Année de début du bail | C7: 2019 | D7: Entre 1992 et 2025. | F7: 2 ch. reloué (SCHL) | G7: =C19
B8: Revenu annuel brut du ménage ($) | C8: 60000 | D8: Mets 0 pour ne pas calculer le taux d'effort.
B10: RÉSULTATS (DONNÉES D'OCTOBRE 2025)
B11: Loyer moyen SCHL, ce type, 2025 | C11: =SUMIFS(Loyers_Montant,Loyers_Annee,2025,Loyers_Type,$C$6)
B12: Écart entre ton loyer et cette moyenne | C12: =C5-C11
B13: Écart en % | C13: =C5/C11-1
B14: Hausse du loyer moyen depuis le début du bail | C14: =C11/SUMIFS(Loyers_Montant,Loyers_Annee,$C$7,Loyers_Type,$C$6)-1
B15: Inflation (IPC Montréal) sur la même période | C15: =INDEX(IPC_Valeur,MATCH(2025,IPC_Annee,0))/INDEX(IPC_Valeur,MATCH($C$7,IPC_Annee,0))-1
B16: Hausse réelle du loyer moyen (au-delà de l'inflation) | C16: =(1+C14)/(1+C15)-1
B17: Taux d'effort (loyer × 12 / revenu) | C17: =IF(C8>0,C5*12/C8,"Non calculé")
B18: Statut d'abordabilité (seuil SCHL : 30 % du revenu) | C18: =_xlfn.IFS(C8<=0,"Non calculé",C5*12/C8<=0.3,"Sous le seuil",TRUE,"Au-dessus du seuil")
B19: Loyer moyen d'un 2 chambres reloué en 2025 (SCHL) | C19: =SUMIFS(SCHL_Valeur,SCHL_Annee,2025,SCHL_Indic,"loyer_moyen_reloues_2ch")
B20: Ce que coûterait un déménagement (2 ch. reloué − ton loyer) | C20: =C19-C5
B22: • Moyenne de la région métropolitaine, immeubles de 3 logements et plus, tous âges et tous quartiers.
B23: • La moyenne inclut les locataires de longue date : un logement à louer coûte en général plus cher.
B24: • Le logement social et les condos loués ne sont pas couverts par l'enquête.

Sheet Excel 365
B1: Excel 365 : un portefeuille de logements lu avec les fonctions dynamiques | K1: =HYPERLINK("#'Accueil'!A1","← Accueil")
B2: RECHERCHEX, LET, FILTRE, TRIER, UNIQUE · cases jaunes modifiables · requiert Excel 2021 ou Microsoft 365
B5: PORTEFEUILLE FICTIF D'UNE AGENCE · HUIT LOGEMENTS, DONNÉES DU MARCHÉ 2025
B6: Logement | C6: Type | D6: Loyer actuel ($) | E6: Début du bail | F6: Marché 2025 ($) | G6: Hausse du marché depuis le bail | H6: Écart au marché | I6: Position | J6: Gain de relocation ($/mois)
B7: Plateau-101 | C7: 2 chambres | D7: 1150 | E7: 2017 | F7: {=_xlfn.XLOOKUP(1,(Loyers_Annee=2025)*(Loyers_Type=C7),Loyers_Montant)} | G7: {=_xlfn.LET(debut,E7,marche_bail,_xlfn.XLOOKUP(1,(Loyers_Annee=debut)*(Loyers_Type=C7),Loyers_Montant),F7/marche_bail-1)} | H7: =D7/F7-1 | I7: =_xlfn.IFS(H7<-0.05,"Sous le marché",H7>0.05,"Au-dessus du marché",TRUE,"Dans le marché") | J7: =IF(C7="2 chambres",SUMIFS(T_Loyer,T_ID,7,T_Est,"Demandé",T_Periode,"2026 T2")-D7,"—")
B8: Plateau-102 | C8: 2 chambres | D8: 1420 | E8: 2021 | F8: {=_xlfn.XLOOKUP(1,(Loyers_Annee=2025)*(Loyers_Type=C8),Loyers_Montant)} | G8: {=_xlfn.LET(debut,E8,marche_bail,_xlfn.XLOOKUP(1,(Loyers_Annee=debut)*(Loyers_Type=C8),Loyers_Montant),F8/marche_bail-1)} | H8: =D8/F8-1 | I8: =_xlfn.IFS(H8<-0.05,"Sous le marché",H8>0.05,"Au-dessus du marché",TRUE,"Dans le marché") | J8: =IF(C8="2 chambres",SUMIFS(T_Loyer,T_ID,7,T_Est,"Demandé",T_Periode,"2026 T2")-D8,"—")
B9: Villeray-201 | C9: 1 chambre | D9: 980 | E9: 2019 | F9: {=_xlfn.XLOOKUP(1,(Loyers_Annee=2025)*(Loyers_Type=C9),Loyers_Montant)} | G9: {=_xlfn.LET(debut,E9,marche_bail,_xlfn.XLOOKUP(1,(Loyers_Annee=debut)*(Loyers_Type=C9),Loyers_Montant),F9/marche_bail-1)} | H9: =D9/F9-1 | I9: =_xlfn.IFS(H9<-0.05,"Sous le marché",H9>0.05,"Au-dessus du marché",TRUE,"Dans le marché") | J9: =IF(C9="2 chambres",SUMIFS(T_Loyer,T_ID,7,T_Est,"Demandé",T_Periode,"2026 T2")-D9,"—")
B10: Villeray-202 | C10: 2 chambres | D10: 1890 | E10: 2025 | F10: {=_xlfn.XLOOKUP(1,(Loyers_Annee=2025)*(Loyers_Type=C10),Loyers_Montant)} | G10: {=_xlfn.LET(debut,E10,marche_bail,_xlfn.XLOOKUP(1,(Loyers_Annee=debut)*(Loyers_Type=C10),Loyers_Montant),F10/marche_bail-1)} | H10: =D10/F10-1 | I10: =_xlfn.IFS(H10<-0.05,"Sous le marché",H10>0.05,"Au-dessus du marché",TRUE,"Dans le marché") | J10: =IF(C10="2 chambres",SUMIFS(T_Loyer,T_ID,7,T_Est,"Demandé",T_Periode,"2026 T2")-D10,"—")
B11: Rosemont-301 | C11: Studio | D11: 760 | E11: 2015 | F11: {=_xlfn.XLOOKUP(1,(Loyers_Annee=2025)*(Loyers_Type=C11),Loyers_Montant)} | G11: {=_xlfn.LET(debut,E11,marche_bail,_xlfn.XLOOKUP(1,(Loyers_Annee=debut)*(Loyers_Type=C11),Loyers_Montant),F11/marche_bail-1)} | H11: =D11/F11-1 | I11: =_xlfn.IFS(H11<-0.05,"Sous le marché",H11>0.05,"Au-dessus du marché",TRUE,"Dans le marché") | J11: =IF(C11="2 chambres",SUMIFS(T_Loyer,T_ID,7,T_Est,"Demandé",T_Periode,"2026 T2")-D11,"—")
B12: Rosemont-302 | C12: 2 chambres | D12: 1510 | E12: 2023 | F12: {=_xlfn.XLOOKUP(1,(Loyers_Annee=2025)*(Loyers_Type=C12),Loyers_Montant)} | G12: {=_xlfn.LET(debut,E12,marche_bail,_xlfn.XLOOKUP(1,(Loyers_Annee=debut)*(Loyers_Type=C12),Loyers_Montant),F12/marche_bail-1)} | H12: =D12/F12-1 | I12: =_xlfn.IFS(H12<-0.05,"Sous le marché",H12>0.05,"Au-dessus du marché",TRUE,"Dans le marché") | J12: =IF(C12="2 chambres",SUMIFS(T_Loyer,T_ID,7,T_Est,"Demandé",T_Periode,"2026 T2")-D12,"—")
B13: HoMa-401 | C13: 1 chambre | D13: 1245 | E13: 2024 | F13: {=_xlfn.XLOOKUP(1,(Loyers_Annee=2025)*(Loyers_Type=C13),Loyers_Montant)} | G13: {=_xlfn.LET(debut,E13,marche_bail,_xlfn.XLOOKUP(1,(Loyers_Annee=debut)*(Loyers_Type=C13),Loyers_Montant),F13/marche_bail-1)} | H13: =D13/F13-1 | I13: =_xlfn.IFS(H13<-0.05,"Sous le marché",H13>0.05,"Au-dessus du marché",TRUE,"Dans le marché") | J13: =IF(C13="2 chambres",SUMIFS(T_Loyer,T_ID,7,T_Est,"Demandé",T_Periode,"2026 T2")-D13,"—")
B14: HoMa-402 | C14: 3 chambres | D14: 2150 | E14: 2024 | F14: {=_xlfn.XLOOKUP(1,(Loyers_Annee=2025)*(Loyers_Type=C14),Loyers_Montant)} | G14: {=_xlfn.LET(debut,E14,marche_bail,_xlfn.XLOOKUP(1,(Loyers_Annee=debut)*(Loyers_Type=C14),Loyers_Montant),F14/marche_bail-1)} | H14: =D14/F14-1 | I14: =_xlfn.IFS(H14<-0.05,"Sous le marché",H14>0.05,"Au-dessus du marché",TRUE,"Dans le marché") | J14: =IF(C14="2 chambres",SUMIFS(T_Loyer,T_ID,7,T_Est,"Demandé",T_Periode,"2026 T2")-D14,"—")
B15: Marché 2025 : loyer moyen SCHL par type (RECHERCHEX à deux critères). Gain de relocation : loyer demandé à Montréal au 2026 T2 moins le loyer actuel, pour les 2 chambres.
B17: LECTURE DYNAMIQUE DU PORTEFEUILLE
B18: Logements sous le marché, du plus grand écart au plus petit (TRIER + FILTRE) | G18: Indicateurs du portefeuille (LET + FILTRE, UNIQUE)
B19: Logement | C19: Type | D19: Loyer actuel ($) | E19: Écart au marché | G19: Logements sous le marché (écart < −5 %) | J19: {=_xlfn.LET(sous,_xlfn._xlws.FILTER(H7:H14,H7:H14<-0.05),IFERROR(ROWS(sous),0))}
B20: {=IFERROR(_xlfn._xlws.SORT(_xlfn._xlws.FILTER(CHOOSE({1,2,3,4},B7:B14,C7:C14,D7:D14,H7:H14),H7:H14<-0.05),4,1),"")}
G21: Revenu annuel libéré si les 2 chambres sous le marché étaient reloués au prix des annonces | J21: {=_xlfn.LET(gains,_xlfn._xlws.FILTER(J7:J14,(C7:C14="2 chambres")*(H7:H14<-0.05)),IFERROR(SUM(gains)*12,0))}
G23: Écart moyen au marché, tout le portefeuille | J23: =AVERAGE(H7:H14)
G25: Types présents (UNIQUE) | H25: Logements | I25: Écart moyen
G26: {=IFERROR(INDEX(_xlfn.UNIQUE(C7:C14),ROW()-25),"")} | H26: =IF(G26="","",COUNTIF(C$7:C$14,G26)) | I26: =IF(G26="","",AVERAGEIFS(H$7:H$14,C$7:C$14,G26))
H27: =IF(G27="","",COUNTIF(C$7:C$14,G27)) | I27: =IF(G27="","",AVERAGEIFS(H$7:H$14,C$7:C$14,G27))
H28: =IF(G28="","",COUNTIF(C$7:C$14,G28)) | I28: =IF(G28="","",AVERAGEIFS(H$7:H$14,C$7:C$14,G28))
H29: =IF(G29="","",COUNTIF(C$7:C$14,G29)) | I29: =IF(G29="","",AVERAGEIFS(H$7:H$14,C$7:C$14,G29))
B31: LES FONCTIONS DE CETTE FEUILLE
B32: Fonction | C32: Ce qu'elle fait ici | I32: Où
B33: RECHERCHEX | C33: Lit le loyer du marché pour un type ET une année : un seul appel, deux critères, sans colonne d'aide ni INDEX/EQUIV. | I33: Colonnes F et G
B34: LET | C34: Nomme les étapes d'un calcul (debut, marche_bail, sous, gains) : la formule se lit comme une phrase. | I34: Colonne G, indicateurs
B35: FILTRE + TRIER | C35: Extrait les logements sous le marché et les classe par écart, sans RANG ni colonnes intermédiaires. | I35: Bloc de gauche
B36: UNIQUE | C36: Liste les types présents dans le portefeuille ; NB.SI et MOYENNE.SI.ENS complètent par type. | I36: Bloc de droite
B37: SI.CONDITIONS | C37: Position du loyer face au marché en une formule lisible. | I37: Colonne I
B39: Dans une version d'Excel antérieure à 2021, seule cette feuille affiche #NOM? ; toutes les autres s'ouvrent normalement.
B40: Les blocs à résultat multiple sont figés sur 8 lignes (formules matricielles {…}) pour s'ouvrir sans réparation ; dans Excel 365, retire les accolades : la formule se propage seule.

Sheet Mode d'emploi
B1: Mode d'emploi : les fonctions du classeur, de la plus simple à la plus avancée | J1: =HYPERLINK("#'Accueil'!A1","← Accueil")
B2: Chaque formule est visible : clique sur une cellule pour la lire. Aucune macro, aucun code caché.
B5: LES FONCTIONS, PAR NIVEAU
B6: Niveau | C6: Fonction ou outil | D6: Ce qu'elle fait ici | E6: Où la voir
B7: Simple | C7: SOMME.SI.ENS | D7: Lit un loyer dans les tableaux sources selon plusieurs critères (année, type, trimestre…). La fonction la plus utilisée du classeur. | E7: Partout · ex. Tableau de bord
B8: Simple | C8: MAX.SI.ENS / MIN.SI.ENS | D8: Le loyer demandé le plus élevé et le plus bas parmi les 16 régions, sans trier le tableau. | E8: Carte villes, repères du marché
B9: Simple | C9: SI.CONDITIONS | D9: Le statut d'abordabilité en une seule formule lisible, au lieu de SI imbriqués. | E9: Simulateur
B10: Simple | C10: LIEN_HYPERTEXTE | D10: Les boutons de navigation entre les feuilles. | E10: Accueil, bandeaux
B11: Intermédiaire | C11: INDEX + EQUIV | D11: Retrouve une valeur par sa position : la fiche de la ville choisie, le tri des classements. | E11: Cartes, Tableau de bord
B12: Intermédiaire | C12: RANG + INDEX/EQUIV | D12: Trie les villes par hausse sans macro : RANG classe, INDEX/EQUIV reconstruit la liste triée. | E12: Calculs (alimente les graphiques)
B13: Intermédiaire | C13: CENTILE | D13: Découpe les valeurs en quintiles : les 5 classes de couleur des cartes. | E13: Calculs, légendes des cartes
B14: Intermédiaire | C14: CHOISIR + EQUIV | D14: Bascule les cartes d'un indicateur à l'autre à partir d'une liste déroulante. | E14: Calculs
B15: Avancée | C15: NPM (NPER) | D15: Le nombre d'années pour que le loyer moyen rattrape le prix des annonces, pour chaque scénario. | E15: Scénarios
B16: Avancée | C16: NA() dans les séries | D16: Un point NA() n'est pas tracé : les classes de couleur des cartes et les périodes des courbes. | E16: Calculs (feuille masquée)
B17: Avancée | C17: Graphique en nuage de points | D17: Les deux cartes : les contours projetés sont une série de lignes, chaque ville ou province une série de points. | E17: Carte provinces, Carte villes
... B20: Excel 365 | C20: FILTRE + TRIER + UNIQUE | D20: Extraire, classer et dédoublonner un portefeuille sans colonnes intermédiaires. | E20: Excel 365
B22: ET LES FONCTIONS D'EXCEL 365 ?
B23: Toutes les feuilles d'analyse n'utilisent que des fonctions disponibles depuis Excel 2019, pour s'ouvrir partout sans erreur.
B24: La feuille « Excel 365 » montre les fonctions dynamiques (RECHERCHEX, LET, FILTRE, TRIER, UNIQUE) sur un portefeuille de logements ;
B25: elle demande Excel 2021 ou Microsoft 365, et c'est la seule.
B27: TROIS EXERCICES POUR PRENDRE LE CLASSEUR EN MAIN
B28: 1. Tableau de bord : mets la période 1992-2019, puis 2019-2025. Compare les deux rythmes annuels réels (+0,5 % contre +4,1 %).
B29: 2. Carte provinces : année 2024. Quelle province mène ? (Réponse : l'Alberta.) Repasse à 2025 : le Québec prend la tête.
B30: 3. Simulateur : entre ton propre loyer et ton année de bail, puis lis l'écart avec le marché et ton taux d'effort.
B32: CONVENTIONS
B33: Cases jaunes : entrées modifiables (protégées par une validation des données). Texte bleu : données sources. Vert : valeur lue ailleurs. Noir : calcul.
B34: La feuille « Calculs » (masquée : clic droit sur un onglet → Afficher) contient les séries des graphiques ; ses NA() sont volontaires.
B35: Chaque bandeau de feuille cite sa source. Les données brutes sont dans les six derniers onglets, en tableaux Excel nommés.

Sheet Loyers Montréal
B1: Loyers Montréal | D1: =HYPERLINK("#'Accueil'!A1","← Accueil")
B2: Statistique Canada 34-10-0133-01 · loyers moyens SCHL, immeubles de 3 logements et plus, octobre
B5: Année | C5: Type de logement | D5: Loyer moyen ($/mois)
B6: 1992 | C6: Studio | D6: 347
B7: 1993 | C7: Studio | D7: 351
B8: 1994 | C8: Studio | D8: 349
B9: 1995 | C9: Studio | D9: 350
B10: 1996 | C10: Studio | D10: 356
B11: 1997 | C11: Studio | D11: 359
B12: 1998 | C12: Studio | D12: 365
B13: 1999 | C13: Studio | D13: 372
B14: 2000 | C14: Studio | D14: 380
B15: 2001 | C15: Studio | D15: 404
B16: 2002 | C16: Studio | D16: 423
B17: 2003 | C17: Studio | D17: 441
... B141: 2025 | C141: 3 chambres | D141: 1626

Sheet Grandes villes
B1: Grandes villes | H1: =HYPERLINK("#'Accueil'!A1","← Accueil")
B2: Statistique Canada 34-10-0133-01 · loyer moyen d'un 2 chambres, octobre
B5: Année | C5: Montréal | D5: Québec | E5: Ottawa-Gatineau | F5: Toronto | G5: Calgary | H5: Vancouver
B6: 1992 | C6: 488 | D6: 501 | E6: 647 | F6: 754 | G6: 598 | H6: 771
B7: 1993 | C7: 484 | D7: 502 | E7: 667 | F7: 773 | G7: 584 | H7: 790
B8: 1994 | C8: 484 | D8: 501 | E8: 676 | F8: 784 | G8: 585 | H8: 812
B9: 1995 | C9: 494 | D9: 513 | E9: 677 | F9: 805 | G9: 584 | H9: 826
B10: 1996 | C10: 491 | D10: 511 | E10: 679 | F10: 819 | G10: 595 | H10: 845
B11: 1997 | C11: 491 | D11: 513 | E11: 669 | F11: 821 | G11: 635 | H11: 852
B12: 1998 | C12: 499 | D12: 513 | E12: 687 | F12: 881 | G12: 707 | H12: 870
B13: 1999 | C13: 506 | D13: 511 | E13: 706 | F13: 916 | G13: 739 | H13: 864
B14: 2000 | C14: 509 | D14: 518 | E14: 778 | F14: 979 | G14: 740 | H14: 890
B15: 2001 | C15: 529 | D15: 538 | E15: 811 | F15: 1027 | G15: 783 | H15: 919
B16: 2002 | C16: 552 | D16: 550 | E16: 832 | F16: 1047 | G16: 804 | H16: 954
B17: 2003 | C17: 575 | D17: 567 | E17: 842 | F17: 1040 | G17: 804 | H17: 965
... B39: 2025 | C39: 1346 | D39: 1277 | E39: 1764 | F39: 2046 | G39: 1914 | H39: 2363

Sheet IPC Montréal
B1: IPC Montréal | C1: =HYPERLINK("#'Accueil'!A1","← Accueil")
B2: Statistique Canada 18-10-0005-01 · moyenne annuelle
B5: Année | C5: IPC d'ensemble (2002 = 100)
B6: 1992 | C6: 86.4
B7: 1993 | C7: 87.7
B8: 1994 | C8: 86.4
B9: 1995 | C9: 87.9
B10: 1996 | C10: 89.4
B11: 1997 | C11: 90.6
B12: 1998 | C12: 92
B13: 1999 | C13: 93.5
B14: 2000 | C14: 95.7
B15: 2001 | C15: 98
B16: 2002 | C16: 100
B17: 2003 | C17: 102.4
... B39: 2025 | C39: 163.9

Sheet IPC provinces
B1: IPC provinces | F1: =HYPERLINK("#'Accueil'!A1","← Accueil")
B2: Statistique Canada 18-10-0005-01 · 2002 = 100 · le loyer suit les mêmes logements d'une année à l'autre
B5: Année | C5: Code | D5: Province | E5: IPC du loyer | F5: IPC d'ensemble
B6: 2019 | C6: AB | D6: Alberta | E6: 132.7 | F6: 143.1
B7: 2020 | C7: AB | D7: Alberta | E7: 134.2 | F7: 144.7
B8: 2021 | C8: AB | D8: Alberta | E8: 134.8 | F8: 149.3
B9: 2022 | C9: AB | D9: Alberta | E9: 137.6 | F9: 158.9
B10: 2023 | C10: AB | D10: Alberta | E10: 145.6 | F10: 164.1
B11: 2024 | C11: AB | D11: Alberta | E11: 163.8 | F11: 168.9
B12: 2025 | C12: AB | D12: Alberta | E12: 170 | F12: 172.2
B13: 2019 | C13: BC | D13: Colombie-Britannique | E13: 124.8 | F13: 131.4
B14: 2020 | C14: BC | D14: Colombie-Britannique | E14: 127.9 | F14: 132.4
B15: 2021 | C15: BC | D15: Colombie-Britannique | E15: 128.5 | F15: 136.1
B16: 2022 | C16: BC | D16: Colombie-Britannique | E16: 135.9 | F16: 145.5
B17: 2023 | C17: BC | D17: Colombie-Britannique | E17: 146 | F17: 151.2
... B82: 2025 | C82: SK | D82: Saskatchewan | E82: 172.1 | F82: 165.7

Sheet Loyers trimestriels
B1: Loyers trimestriels | G1: =HYPERLINK("#'Accueil'!A1","← Accueil")
B2: Statistique Canada 46-10-0092-01 · 2 chambres · les 16 régions où loyer demandé et payé sont publiés
B5: Trimestre | C5: ID | D5: Région métropolitaine | E5: Estimation | F5: Loyer ($) | G5: Fiabilité
B6: 2025 T3 | C6: 2 | D6: Halifax | E6: Demandé | F6: 2310 | G6: Normale
B7: 2025 T4 | C7: 2 | D7: Halifax | E7: Demandé | F7: 2260 | G7: Normale
B8: 2026 T1 | C8: 2 | D8: Halifax | E8: Demandé | F8: 2350 | G8: Normale
B9: 2026 T2 | C9: 2 | D9: Halifax | E9: Demandé | F9: 2400 | G9: Normale
B10: 2025 T3 | C10: 2 | D10: Halifax | E10: Payé | F10: 1680 | G10: Normale
B11: 2025 T4 | C11: 2 | D11: Halifax | E11: Payé | F11: 1730 | G11: Normale
B12: 2026 T1 | C12: 2 | D12: Halifax | E12: Payé | F12: 1750 | G12: Normale
B13: 2026 T2 | C13: 2 | D13: Halifax | E13: Payé | F13: 1770 | G13: Normale
B14: 2025 T3 | C14: 7 | D14: Montréal | E14: Demandé | F14: 1930 | G14: Normale
B15: 2025 T4 | C15: 7 | D15: Montréal | E15: Demandé | F15: 1920 | G15: Normale
B16: 2026 T1 | C16: 7 | D16: Montréal | E16: Demandé | F16: 1900 | G16: Normale
B17: 2026 T2 | C17: 7 | D17: Montréal | E17: Demandé | F17: 1820 | G17: Normale
... B133: 2026 T2 | C133: 41 | D133: Vancouver | E133: Payé | F133: 2470 | G133: Normale

Sheet SCHL
B1: SCHL | E1: =HYPERLINK("#'Accueil'!A1","← Accueil")
B2: SCHL, Rapport sur le marché locatif 2025 · logements reloués, hausses à échantillon constant
B5: Année | C5: Indicateur | D5: Valeur | E5: Unité
B6: 2022 | C6: loyer_moyen_reloues_2ch | D6: 1235 | E6: dollars
B7: 2023 | C7: loyer_moyen_reloues_2ch | D7: 1310 | E7: dollars
B8: 2024 | C8: loyer_moyen_reloues_2ch | D8: 1407 | E8: dollars
B9: 2025 | C9: loyer_moyen_reloues_2ch | D9: 1644 | E9: dollars
B10: 2024 | C10: hausse_loyer_reloues_2ch | D10: 18.7 | E10: pct
B11: 2025 | C11: hausse_loyer_reloues_2ch | D11: 17.2 | E11: pct
B12: 2024 | C12: hausse_loyer_non_reloues_2ch | D12: 4.7 | E12: pct
B13: 2025 | C13: hausse_loyer_non_reloues_2ch | D13: 6 | E13: pct
B14: 2025 | C14: hausse_loyer_meme_echantillon_2ch | D14: 7.2 | E14: pct
B15: 2025 | C15: taux_inoccupation_3plus | D15: 2.9 | E15: pct

Sheet Calculs
B1: Calculs
B2: Séries des graphiques et des cartes · les NA() masquent un point de graphique, aucune autre feuille ne les lit
A4: Année | B4: Loyer (type choisi) | C4: IPC | D4: Loyer réel | E4: Période choisie | F4: Studio | G4: 1 chambre | H4: 2 chambres | I4: 3 chambres | AJ4: Contours Canada | AM4: Contours Est | AP4: Contours Ouest
A5: 1992 | B5: =SUMIFS(Loyers_Montant,Loyers_Annee,A5,Loyers_Type,TypeLog) | C5: =INDEX(IPC_Valeur,MATCH(A5,IPC_Annee,0)) | D5: =B5*INDEX(IPC_Valeur,MATCH(Fin,IPC_Annee,0))/C5 | E5: =IF(AND(A5>=Debut,A5<=Fin),D5,NA()) | F5: =SUMIFS(Loyers_Montant,Loyers_Annee,A5,Loyers_Type,"Studio") | G5: =SUMIFS(Loyers_Montant,Loyers_Annee,A5,Loyers_Type,"1 chambre") | H5: =SUMIFS(Loyers_Montant,Loyers_Annee,A5,Loyers_Type,"2 chambres") | I5: =SUMIFS(Loyers_Montant,Loyers_Annee,A5,Loyers_Type,"3 chambres") | AJ5: 1393.78 | AK5: 1156.14 | AM5: 1245.04 | AN5: 1142.66 | AP5: 1172.37 | AQ5: 1045.43
A6: 1993 | B6: =SUMIFS(Loyers_Montant,Loyers_Annee,A6,Loyers_Type,TypeLog) | C6: =INDEX(IPC_Valeur,MATCH(A6,IPC_Annee,0)) | D6: =B6*INDEX(IPC_Valeur,MATCH(Fin,IPC_Annee,0))/C6 | E6: =IF(AND(A6>=Debut,A6<=Fin),D6,NA()) | F6: =SUMIFS(Loyers_Montant,Loyers_Annee,A6,Loyers_Type,"Studio") | G6: =SUMIFS(Loyers_Montant,Loyers_Annee,A6,Loyers_Type,"1 chambre") | H6: =SUMIFS(Loyers_Montant,Loyers_Annee,A6,Loyers_Type,"2 chambres") | I6: =SUMIFS(Loyers_Montant,Loyers_Annee,A6,Loyers_Type,"3 chambres") | AJ6: 1349.61 | AK6: 1170.63 | AM6: 1241.77 | AN6: 1136.86 | AP6: 1128.2 | AQ6: 1059.92
A7: 1994 | B7: =SUMIFS(Loyers_Montant,Loyers_Annee,A7,Loyers_Type,TypeLog) | C7: =INDEX(IPC_Valeur,MATCH(A7,IPC_Annee,0)) | D7: =B7*INDEX(IPC_Valeur,MATCH(Fin,IPC_Annee,0))/C7 | E7: =IF(AND(A7>=Debut,A7<=Fin),D7,NA()) | F7: =SUMIFS(Loyers_Montant,Loyers_Annee,A7,Loyers_Type,"Studio") | G7: =SUMIFS(Loyers_Montant,Loyers_Annee,A7,Loyers_Type,"1 chambre") | H7: =SUMIFS(Loyers_Montant,Loyers_Annee,A7,Loyers_Type,"2 chambres") | I7: =SUMIFS(Loyers_Montant,Loyers_Annee,A7,Loyers_Type,"3 chambres") | AJ7: 1349.28 | AK7: 1199.72 | AM7: 1238.98 | AN7: 1138.5 | AP7: 1124.66 | AQ7: 1072.01
A8: 1995 | B8: =SUMIFS(Loyers_Montant,Loyers_Annee,A8,Loyers_Type,TypeLog) | C8: =INDEX(IPC_Valeur,MATCH(A8,IPC_Annee,0)) | D8: =B8*INDEX(IPC_Valeur,MATCH(Fin,IPC_Annee,0))/C8 | E8: =IF(AND(A8>=Debut,A8<=Fin),D8,NA()) | F8: =SUMIFS(Loyers_Montant,Loyers_Annee,A8,Loyers_Type,"Studio") | G8: =SUMIFS(Loyers_Montant,Loyers_Annee,A8,Loyers_Type,"1 chambre") | H8: =SUMIFS(Loyers_Montant,Loyers_Annee,A8,Loyers_Type,"2 chambres") | I8: =SUMIFS(Loyers_Montant,Loyers_Annee,A8,Loyers_Type,"3 chambres") | AJ8: 1321.37 | AK8: 1267.09 | AM8: 1240.46 | AN8: 1136.45 | AP8: 1128.15 | AQ8: 1079.07
A9: 1996 | B9: =SUMIFS(Loyers_Montant,Loyers_Annee,A9,Loyers_Type,TypeLog) | C9: =INDEX(IPC_Valeur,MATCH(A9,IPC_Annee,0)) | D9: =B9*INDEX(IPC_Valeur,MATCH(Fin,IPC_Annee,0))/C9 | E9: =IF(AND(A9>=Debut,A9<=Fin),D9,NA()) | F9: =SUMIFS(Loyers_Montant,Loyers_Annee,A9,Loyers_Type,"Studio") | G9: =SUMIFS(Loyers_Montant,Loyers_Annee,A9,Loyers_Type,"1 chambre") | H9: =SUMIFS(Loyers_Montant,Loyers_Annee,A9,Loyers_Type,"2 chambres") | I9: =SUMIFS(Loyers_Montant,Loyers_Annee,A9,Loyers_Type,"3 chambres") | AJ9: 1367.74 | AK9: 1367.65 | AM9: 1239.57 | AN9: 1132.74 | AP9: 1127.87 | AQ9: 1089.01
A10: 1997 | B10: =SUMIFS(Loyers_Montant,Loyers_Annee,A10,Loyers_Type,TypeLog) | C10: =INDEX(IPC_Valeur,MATCH(A10,IPC_Annee,0)) | D10: =B10*INDEX(IPC_Valeur,MATCH(Fin,IPC_Annee,0))/C10 | E10: =IF(AND(A10>=Debut,A10<=Fin),D10,NA()) | F10: =SUMIFS(Loyers_Montant,Loyers_Annee,A10,Loyers_Type,"Studio") | G10: =SUMIFS(Loyers_Montant,Loyers_Annee,A10,Loyers_Type,"1 chambre") | H10: =SUMIFS(Loyers_Montant,Loyers_Annee,A10,Loyers_Type,"2 chambres") | I10: =SUMIFS(Loyers_Montant,Loyers_Annee,A10,Loyers_Type,"3 chambres") | AJ10: 1446.93 | AK10: 1337.51 | AM10: 1229.96 | AN10: 1120.34 | AP10: 1125.6 | AQ10: 1089.88
A11: 1998 | B11: =SUMIFS(Loyers_Montant,Loyers_Annee,A11,Loyers_Type,TypeLog) | C11: =INDEX(IPC_Valeur,MATCH(A11,IPC_Annee,0)) | D11: =B11*INDEX(IPC_Valeur,MATCH(Fin,IPC_Annee,0))/C11 | E11: =IF(AND(A11>=Debut,A11<=Fin),D11,NA()) | F11: =SUMIFS(Loyers_Montant,Loyers_Annee,A11,Loyers_Type,"Studio") | G11: =SUMIFS(Loyers_Montant,Loyers_Annee,A11,Loyers_Type,"1 chambre") | H11: =SUMIFS(Loyers_Montant,Loyers_Annee,A11,Loyers_Type,"2 chambres") | I11: =SUMIFS(Loyers_Montant,Loyers_Annee,A11,Loyers_Type,"3 chambres") | AJ11: 1393.78 | AK11: 1156.14 | AM11: 1226.62 | AN11: 1120.84 | AP11: 1123.08 | AQ11: 1096.44
A12: 1999 | B12: =SUMIFS(Loyers_Montant,Loyers_Annee,A12,Loyers_Type,TypeLog) | C12: =INDEX(IPC_Valeur,MATCH(A12,IPC_Annee,0)) | D12: =B12*INDEX(IPC_Valeur,MATCH(Fin,IPC_Annee,0))/C12 | E12: =IF(AND(A12>=Debut,A12<=Fin),D12,NA()) | F12: =SUMIFS(Loyers_Montant,Loyers_Annee,A12,Loyers_Type,"Studio") | G12: =SUMIFS(Loyers_Montant,Loyers_Annee,A12,Loyers_Type,"1 chambre") | H12: =SUMIFS(Loyers_Montant,Loyers_Annee,A12,Loyers_Type,"2 chambres") | I12: =SUMIFS(Loyers_Montant,Loyers_Annee,A12,Loyers_Type,"3 chambres") | AM12: 1227.07 | AN12: 1122.96 | AP12: 1118.7 | AQ12: 1115.73
A13: 2000 | B13: =SUMIFS(Loyers_Montant,Loyers_Annee,A13,Loyers_Type,TypeLog) | C13: =INDEX(IPC_Valeur,MATCH(A13,IPC_Annee,0)) | D13: =B13*INDEX(IPC_Valeur,MATCH(Fin,IPC_Annee,0))/C13 | E13: =IF(AND(A13>=Debut,A13<=Fin),D13,NA()) | F13: =SUMIFS(Loyers_Montant,Loyers_Annee,A13,Loyers_Type,"Studio") | G13: =SUMIFS(Loyers_Montant,Loyers_Annee,A13,Loyers_Type,"1 chambre") | H13: =SUMIFS(Loyers_Montant,Loyers_Annee,A13,Loyers_Type,"2 chambres") | I13: =SUMIFS(Loyers_Montant,Loyers_Annee,A13,Loyers_Type,"3 chambres") | AJ13: 1367.74 | AK13: 1367.65 | AM13: 1225.8 | AN13: 1120.87 | AP13: 1115.9 | AQ13: 1115.39
A14: 2001 | B14: =SUMIFS(Loyers_Montant,Loyers_Annee,A14,Loyers_Type,TypeLog) | C14: =INDEX(IPC_Valeur,MATCH(A14,IPC_Annee,0)) | D14: =B14*INDEX(IPC_Valeur,MATCH(Fin,IPC_Annee,0))/C14 | E14: =IF(AND(A14>=Debut,A14<=Fin),D14,NA()) | F14: =SUMIFS(Loyers_Montant,Loyers_Annee,A14,Loyers_Type,"Studio") | G14: =SUMIFS(Loyers_Montant,Loyers_Annee,A14,Loyers_Type,"1 chambre") | H14: =SUMIFS(Loyers_Montant,Loyers_Annee,A14,Loyers_Type,"2 chambres") | I14: =SUMIFS(Loyers_Montant,Loyers_Annee,A14,Loyers_Type,"3 chambres") | AJ14: 1321.37 | AK14: 1267.09 | AM14: 1227.09 | AN14: 1119.11 | AP14: 1114.72 | AQ14: 1124.13
A15: 2002 | B15: =SUMIFS(Loyers_Montant,Loyers_Annee,A15,Loyers_Type,TypeLog) | C15: =INDEX(IPC_Valeur,MATCH(A15,IPC_Annee,0)) | D15: =B15*INDEX(IPC_Valeur,MATCH(Fin,IPC_Annee,0))/C15 | E15: =IF(AND(A15>=Debut,A15<=Fin),D15,NA()) | F15: =SUMIFS(Loyers_Montant,Loyers_Annee,A15,Loyers_Type,"Studio") | G15: =SUMIFS(Loyers_Montant,Loyers_Annee,A15,Loyers_Type,"1 chambre") | H15: =SUMIFS(Loyers_Montant,Loyers_Annee,A15,Loyers_Type,"2 chambres") | I15: =SUMIFS(Loyers_Montant,Loyers_Annee,A15,Loyers_Type,"3 chambres") | AJ15: 1349.28 | AK15: 1199.72 | AM15: 1224.47 | AN15: 1115.68 | AP15: 1110.97 | AQ15: 1126.67
A16: 2003 | B16: =SUMIFS(Loyers_Montant,Loyers_Annee,A16,Loyers_Type,TypeLog) | C16: =INDEX(IPC_Valeur,MATCH(A16,IPC_Annee,0)) | D16: =B16*INDEX(IPC_Valeur,MATCH(Fin,IPC_Annee,0))/C16 | E16: =IF(AND(A16>=Debut,A16<=Fin),D16,NA()) | F16: =SUMIFS(Loyers_Montant,Loyers_Annee,A16,Loyers_Type,"Studio") | G16: =SUMIFS(Loyers_Montant,Loyers_Annee,A16,Loyers_Type,"1 chambre") | H16: =SUMIFS(Loyers_Montant,Loyers_Annee,A16,Loyers_Type,"2 chambres") | I16: =SUMIFS(Loyers_Montant,Loyers_Annee,A16,Loyers_Type,"3 chambres") | AJ16: 1349.61 | AK16: 1170.63 | AM16: 1219.71 | AN16: 1113.11 | AP16: 1112.39 | AQ16: 1129.44
A17: 2004 | B17: =SUMIFS(Loyers_Montant,Loyers_Annee,A17,Loyers_Type,TypeLog) | C17: =INDEX(IPC_Valeur,MATCH(A17,IPC_Annee,0)) | D17: =B17*INDEX(IPC_Valeur,MATCH(Fin,IPC_Annee,0))/C17 | E17: =IF(AND(A17>=Debut,A17<=Fin),D17,NA()) | F17: =SUMIFS(Loyers_Montant,Loyers_Annee,A17,Loyers_Type,"Studio") | G17: =SUMIFS(Loyers_Montant,Loyers_Annee,A17,Loyers_Type,"1 chambre") | H17: =SUMIFS(Loyers_Montant,Loyers_Annee,A17,Loyers_Type,"2 chambres") | I17: =SUMIFS(Loyers_Montant,Loyers_Annee,A17,Loyers_Type,"3 chambres") | AJ17: 1255.25 | AK17: 1212.76 | AM17: 1218.7 | AN17: 1114.23 | AP17: 1110.47 | AQ17: 1132.15
A18: 2005 | B18: =SUMIFS(Loyers_Montant,Loyers_Annee,A18,Loyers_Type,TypeLog) | C18: =INDEX(IPC_Valeur,MATCH(A18,IPC_Annee,0)) | D18: =B18*INDEX(IPC_Valeur,MATCH(Fin,IPC_Annee,0))/C18 | E18: =IF(AND(A18>=Debut,A18<=Fin),D18,NA()) | F18: =SUMIFS(Loyers_Montant,Loyers_Annee,A18,Loyers_Type,"Studio") | G18: =SUMIFS(Loyers_Montant,Loyers_Annee,A18,Loyers_Type,"1 chambre") | H18: =SUMIFS(Loyers_Montant,Loyers_Annee,A18,Loyers_Type,"2 chambres") | I18: =SUMIFS(Loyers_Montant,Loyers_Annee,A18,Loyers_Type,"3 chambres") | AJ18: 1259.93 | AK18: 1223.9 | AM18: 1213.24 | AN18: 1112.38 | AP18: 1107.66 | AQ18: 1131.49
A19: 2006 | B19: =SUMIFS(Loyers_Montant,Loyers_Annee,A19,Loyers_Type,TypeLog) | C19: =INDEX(IPC_Valeur,MATCH(A19,IPC_Annee,0)) | D19: =B19*INDEX(IPC_Valeur,MATCH(Fin,IPC_Annee,0))/C19 | E19: =IF(AND(A19>=Debut,A19<=Fin),D19,NA()) | F19: =SUMIFS(Loyers_Montant,Loyers_Annee,A19,Loyers_Type,"Studio") | G19: =SUMIFS(Loyers_Montant,Loyers_Annee,A19,Loyers_Type,"1 chambre") | H19: =SUMIFS(Loyers_Montant,Loyers_Annee,A19,Loyers_Type,"2 chambres") | I19: =SUMIFS(Loyers_Montant,Loyers_Annee,A19,Loyers_Type,"3 chambres") | AJ19: 1254.43 | AK19: 1221.32 | AM19: 1209.51 | AN19: 1119.28 | AP19: 1107.6 | AQ19: 1146.23
A20: 2007 | B20: =SUMIFS(Loyers_Montant,Loyers_Annee,A20,Loyers_Type,TypeLog) | C20: =INDEX(IPC_Valeur,MATCH(A20,IPC_Annee,0)) | D20: =B20*INDEX(IPC_Valeur,MATCH(Fin,IPC_Annee,0))/C20 | E20: =IF(AND(A20>=Debut,A20<=Fin),D20,NA()) | F20: =SUMIFS(Loyers_Montant,Loyers_Annee,A20,Loyers_Type,"Studio") | G20: =SUMIFS(Loyers_Montant,Loyers_Annee,A20,Loyers_Type,"1 chambre") | H20: =SUMIFS(Loyers_Montant,Loyers_Annee,A20,Loyers_Type,"2 chambres") | I20: =SUMIFS(Loyers_Montant,Loyers_Annee,A20,Loyers_Type,"3 chambres") | AJ20: 1251.04 | AK20: 1227.15 | AM20: 1204.58 | AN20: 1119.59 | AP20: 1103.64 | AQ20: 1148.98
A21: 2008 | B21: =SUMIFS(Loyers_Montant,Loyers_Annee,A21,Loyers_Type,TypeLog) | C21: =INDEX(IPC_Valeur,MATCH(A21,IPC_Annee,0)) | D21: =B21*INDEX(IPC_Valeur,MATCH(Fin,IPC_Annee,0))/C21 | E21: =IF(AND(A21>=Debut,A21<=Fin),D21,NA()) | F21: =SUMIFS(Loyers_Montant,Loyers_Annee,A21,Loyers_Type,"Studio") | G21: =SUMIFS(Loyers_Montant,Loyers_Annee,A21,Loyers_Type,"1 chambre") | H21: =SUMIFS(Loyers_Montant,Loyers_Annee,A21,Loyers_Type,"2 chambres") | I21: =SUMIFS(Loyers_Montant,Loyers_Annee,A21,Loyers_Type,"3 chambres") | AJ21: 1256.06 | AK21: 1225.99 | AM21: 1195.72 | AN21: 1141.89 | AP21: 1099.95 | AQ21: 1156.38
A22: 2009 | B22: =SUMIFS(Loyers_Montant,Loyers_Annee,A22,Loyers_Type,TypeLog) | C22: =INDEX(IPC_Valeur,MATCH(A22,IPC_Annee,0)) | D22: =B22*INDEX(IPC_Valeur,MATCH(Fin,IPC_Annee,0))/C22 | E22: =IF(AND(A22>=Debut,A22<=Fin),D22,NA()) | F22: =SUMIFS(Loyers_Montant,Loyers_Annee,A22,Loyers_Type,"Studio") | G22: =SUMIFS(Loyers_Montant,Loyers_Annee,A22,Loyers_Type,"1 chambre") | H22: =SUMIFS(Loyers_Montant,Loyers_Annee,A22,Loyers_Type,"2 chambres") | I22: =SUMIFS(Loyers_Montant,Loyers_Annee,A22,Loyers_Type,"3 chambres") | AJ22: 1257.63 | AK22: 1234.45 | AM22: 1189.16 | AN22: 1144.22 | AP22: 1102.31 | AQ22: 1157.55
A23: 2010 | B23: =SUMIFS(Loyers_Montant,Loyers_Annee,A23,Loyers_Type,TypeLog) | C23: =INDEX(IPC_Valeur,MATCH(A23,IPC_Annee,0)) | D23: =B23*INDEX(IPC_Valeur,MATCH(Fin,IPC_Annee,0))/C23 | E23: =IF(AND(A23>=Debut,A23<=Fin),D23,NA()) | F23: =SUMIFS(Loyers_Montant,Loyers_Annee,A23,Loyers_Type,"Studio") | G23: =SUMIFS(Loyers_Montant,Loyers_Annee,A23,Loyers_Type,"1 chambre") | H23: =SUMIFS(Loyers_Montant,Loyers_Annee,A23,Loyers_Type,"2 chambres") | I23: =SUMIFS(Loyers_Montant,Loyers_Annee,A23,Loyers_Type,"3 chambres") | AJ23: 1249.92 | AK23: 1231.16 | AM23: 1183.47 | AN23: 1139.4 | AP23: 1101.36 | AQ23: 1161.99
A24: 2011 | B24: =SUMIFS(Loyers_Montant,Loyers_Annee,A24,Loyers_Type,TypeLog) | C24: =INDEX(IPC_Valeur,MATCH(A24,IPC_Annee,0)) | D24: =B24*INDEX(IPC_Valeur,MATCH(Fin,IPC_Annee,0))/C24 | E24: =IF(AND(A24>=Debut,A24<=Fin),D24,NA()) | F24: =SUMIFS(Loyers_Montant,Loyers_Annee,A24,Loyers_Type,"Studio") | G24: =SUMIFS(Loyers_Montant,Loyers_Annee,A24,Loyers_Type,"1 chambre") | H24: =SUMIFS(Loyers_Montant,Loyers_Annee,A24,Loyers_Type,"2 chambres") | I24: =SUMIFS(Loyers_Montant,Loyers_Annee,A24,Loyers_Type,"3 chambres") | AJ24: 1247.18 | AK24: 1237.7 | AM24: 1180.34 | AN24: 1139.91 | AP24: 1146.33 | AQ24: 1256.94
... A27: 2014 | B27: =SUMIFS(Loyers_Montant,Loyers_Annee,A27,Loyers_Type,TypeLog) | C27: =INDEX(IPC_Valeur,MATCH(A27,IPC_Annee,0)) | D27: =B27*INDEX(IPC_Valeur,MATCH(Fin,IPC_Annee,0))/C27 | E27: =IF(AND(A27>=Debut,A27<=Fin),D27,NA()) | F27: =SUMIFS(Loyers_Montant,Loyers_Annee,A27,Loyers_Type,"Studio") | G27: =SUMIFS(Loyers_Montant,Loyers_Annee,A27,Loyers_Type,"1 chambre") | H27: =SUMIFS(Loyers_Montant,Loyers_Annee,A27,Loyers_Type,"2 chambres") | I27: =SUMIFS(Loyers_Montant,Loyers_Annee,A27,Loyers_Type,"3 chambres") | AJ27: 1235.85 | AK27: 1255.02 | AM27: 1186.88 | AN27: 1154.26 | AP27: 1172.37 | AQ27: 1045.43
A28: 2015 | B28: =SUMIFS(Loyers_Montant,Loyers_Annee,A28,Loyers_Type,TypeLog) | C28: =INDEX(IPC_Valeur,MATCH(A28,IPC_Annee,0)) | D28: =B28*INDEX(IPC_Valeur,MATCH(Fin,IPC_Annee,0))/C28 | E28: =IF(AND(A28>=Debut,A28<=Fin),D28,NA()) | F28: =SUMIFS(Loyers_Montant,Loyers_Annee,A28,Loyers_Type,"Studio") | G28: =SUMIFS(Loyers_Montant,Loyers_Annee,A28,Loyers_Type,"1 chambre") | H28: =SUMIFS(Loyers_Montant,Loyers_Annee,A28,Loyers_Type,"2 chambres") | I28: =SUMIFS(Loyers_Montant,Loyers_Annee,A28,Loyers_Type,"3 chambres") | AJ28: 1242.47 | AK28: 1254.29 | AM28: 1186.44 | AN28: 1155.4
A29: 2016 | B29: =SUMIFS(Loyers_Montant,Loyers_Annee,A29,Loyers_Type,TypeLog) | C29: =INDEX(IPC_Valeur,MATCH(A29,IPC_Annee,0)) | D29: =B29*INDEX(IPC_Valeur,MATCH(Fin,IPC_Annee,0))/C29 | E29: =IF(AND(A29>=Debut,A29<=Fin),D29,NA()) | F29: =SUMIFS(Loyers_Montant,Loyers_Annee,A29,Loyers_Type,"Studio") | G29: =SUMIFS(Loyers_Montant,Loyers_Annee,A29,Loyers_Type,"1 chambre") | H29: =SUMIFS(Loyers_Montant,Loyers_Annee,A29,Loyers_Type,"2 chambres") | I29: =SUMIFS(Loyers_Montant,Loyers_Annee,A29,Loyers_Type,"3 chambres") | AJ29: 1236.45 | AK29: 1257.29 | AM29: 1191.89 | AN29: 1157.56 | AP29: 1146.33 | AQ29: 1256.94
A30: 2017 | B30: =SUMIFS(Loyers_Montant,Loyers_Annee,A30,Loyers_Type,TypeLog) | C30: =INDEX(IPC_Valeur,MATCH(A30,IPC_Annee,0)) | D30: =B30*INDEX(IPC_Valeur,MATCH(Fin,IPC_Annee,0))/C30 | E30: =IF(AND(A30>=Debut,A30<=Fin),D30,NA()) | F30: =SUMIFS(Loyers_Montant,Loyers_Annee,A30,Loyers_Type,"Studio") | G30: =SUMIFS(Loyers_Montant,Loyers_Annee,A30,Loyers_Type,"1 chambre") | H30: =SUMIFS(Loyers_Montant,Loyers_Annee,A30,Loyers_Type,"2 chambres") | I30: =SUMIFS(Loyers_Montant,Loyers_Annee,A30,Loyers_Type,"3 chambres") | AJ30: 1239.77 | AK30: 1262.98 | AM30: 1195.59 | AN30: 1156.22 | AP30: 1101.36 | AQ30: 1161.99
A31: 2018 | B31: =SUMIFS(Loyers_Montant,Loyers_Annee,A31,Loyers_Type,TypeLog) | C31: =INDEX(IPC_Valeur,MATCH(A31,IPC_Annee,0)) | D31: =B31*INDEX(IPC_Valeur,MATCH(Fin,IPC_Annee,0))/C31 | E31: =IF(AND(A31>=Debut,A31<=Fin),D31,NA()) | F31: =SUMIFS(Loyers_Montant,Loyers_Annee,A31,Loyers_Type,"Studio") | G31: =SUMIFS(Loyers_Montant,Loyers_Annee,A31,Loyers_Type,"1 chambre") | H31: =SUMIFS(Loyers_Montant,Loyers_Annee,A31,Loyers_Type,"2 chambres") | I31: =SUMIFS(Loyers_Montant,Loyers_Annee,A31,Loyers_Type,"3 chambres") | AJ31: 1233.03 | AK31: 1263.25 | AM31: 1205.02 | AN31: 1164.12 | AP31: 1102.31 | AQ31: 1157.55
A32: 2019 | B32: =SUMIFS(Loyers_Montant,Loyers_Annee,A32,Loyers_Type,TypeLog) | C32: =INDEX(IPC_Valeur,MATCH(A32,IPC_Annee,0)) | D32: =B32*INDEX(IPC_Valeur,MATCH(Fin,IPC_Annee,0))/C32 | E32: =IF(AND(A32>=Debut,A32<=Fin),D32,NA()) | F32: =SUMIFS(Loyers_Montant,Loyers_Annee,A32,Loyers_Type,"Studio") | G32: =SUMIFS(Loyers_Montant,Loyers_Annee,A32,Loyers_Type,"1 chambre") | H32: =SUMIFS(Loyers_Montant,Loyers_Annee,A32,Loyers_Type,"2 chambres") | I32: =SUMIFS(Loyers_Montant,Loyers_Annee,A32,Loyers_Type,"3 chambres") | AJ32: 1229.59 | AK32: 1271.12 | AM32: 1212.99 | AN32: 1163.73 | AP32: 1099.95 | AQ32: 1156.38
A33: 2020 | B33: =SUMIFS(Loyers_Montant,Loyers_Annee,A33,Loyers_Type,TypeLog) | C33: =INDEX(IPC_Valeur,MATCH(A33,IPC_Annee,0)) | D33: =B33*INDEX(IPC_Valeur,MATCH(Fin,IPC_Annee,0))/C33 | E33: =IF(AND(A33>=Debut,A33<=Fin),D33,NA()) | F33: =SUMIFS(Loyers_Montant,Loyers_Annee,A33,Loyers_Type,"Studio") | G33: =SUMIFS(Loyers_Montant,Loyers_Annee,A33,Loyers_Type,"1 chambre") | H33: =SUMIFS(Loyers_Montant,Loyers_Annee,A33,Loyers_Type,"2 chambres") | I33: =SUMIFS(Loyers_Montant,Loyers_Annee,A33,Loyers_Type,"3 chambres") | AJ33: 1243.86 | AK33: 1273.45 | AM33: 1215.94 | AN33: 1161.38 | AP33: 1103.64 | AQ33: 1148.98
A34: 2021 | B34: =SUMIFS(Loyers_Montant,Loyers_Annee,A34,Loyers_Type,TypeLog) | C34: =INDEX(IPC_Valeur,MATCH(A34,IPC_Annee,0)) | D34: =B34*INDEX(IPC_Valeur,MATCH(Fin,IPC_Annee,0))/C34 | E34: =IF(AND(A34>=Debut,A34<=Fin),D34,NA()) | F34: =SUMIFS(Loyers_Montant,Loyers_Annee,A34,Loyers_Type,"Studio") | G34: =SUMIFS(Loyers_Montant,Loyers_Annee,A34,Loyers_Type,"1 chambre") | H34: =SUMIFS(Loyers_Montant,Loyers_Annee,A34,Loyers_Type,"2 chambres") | I34: =SUMIFS(Loyers_Montant,Loyers_Annee,A34,Loyers_Type,"3 chambres") | AJ34: 1233.13 | AK34: 1279.73 | AM34: 1221.2 | AN34: 1166.97 | AP34: 1107.6 | AQ34: 1146.23
A35: 2022 | B35: =SUMIFS(Loyers_Montant,Loyers_Annee,A35,Loyers_Type,TypeLog) | C35: =INDEX(IPC_Valeur,MATCH(A35,IPC_Annee,0)) | D35: =B35*INDEX(IPC_Valeur,MATCH(Fin,IPC_Annee,0))/C35 | E35: =IF(AND(A35>=Debut,A35<=Fin),D35,NA()) | F35: =SUMIFS(Loyers_Montant,Loyers_Annee,A35,Loyers_Type,"Studio") | G35: =SUMIFS(Loyers_Montant,Loyers_Annee,A35,Loyers_Type,"1 chambre") | H35: =SUMIFS(Loyers_Montant,Loyers_Annee,A35,Loyers_Type,"2 chambres") | I35: =SUMIFS(Loyers_Montant,Loyers_Annee,A35,Loyers_Type,"3 chambres") | AJ35: 1243.16 | AK35: 1287.28 | AM35: 1225.29 | AN35: 1166.51 | AP35: 1107.66 | AQ35: 1131.49
A36: 2023 | B36: =SUMIFS(Loyers_Montant,Loyers_Annee,A36,Loyers_Type,TypeLog) | C36: =INDEX(IPC_Valeur,MATCH(A36,IPC_Annee,0)) | D36: =B36*INDEX(IPC_Valeur,MATCH(Fin,IPC_Annee,0))/C36 | E36: =IF(AND(A36>=Debut,A36<=Fin),D36,NA()) | F36: =SUMIFS(Loyers_Montant,Loyers_Annee,A36,Loyers_Type,"Studio") | G36: =SUMIFS(Loyers_Montant,Loyers_Annee,A36,Loyers_Type,"1 chambre") | H36: =SUMIFS(Loyers_Montant,Loyers_Annee,A36,Loyers_Type,"2 chambres") | I36: =SUMIFS(Loyers_Montant,Loyers_Annee,A36,Loyers_Type,"3 chambres") | AJ36: 1247.01 | AK36: 1278.82 | AM36: 1225.56 | AN36: 1159.89 | AP36: 1110.47 | AQ36: 1132.15
A37: 2024 | B37: =SUMIFS(Loyers_Montant,Loyers_Annee,A37,Loyers_Type,TypeLog) | C37: =INDEX(IPC_Valeur,MATCH(A37,IPC_Annee,0)) | D37: =B37*INDEX(IPC_Valeur,MATCH(Fin,IPC_Annee,0))/C37 | E37: =IF(AND(A37>=Debut,A37<=Fin),D37,NA()) | F37: =SUMIFS(Loyers_Montant,Loyers_Annee,A37,Loyers_Type,"Studio") | G37: =SUMIFS(Loyers_Montant,Loyers_Annee,A37,Loyers_Type,"1 chambre") | H37: =SUMIFS(Loyers_Montant,Loyers_Annee,A37,Loyers_Type,"2 chambres") | I37: =SUMIFS(Loyers_Montant,Loyers_Annee,A37,Loyers_Type,"3 chambres") | AJ37: 1251.35 | AK37: 1291.93 | AM37: 1223.03 | AN37: 1153.56 | AP37: 1112.39 | AQ37: 1129.44
A38: 2025 | B38: =SUMIFS(Loyers_Montant,Loyers_Annee,A38,Loyers_Type,TypeLog) | C38: =INDEX(IPC_Valeur,MATCH(A38,IPC_Annee,0)) | D38: =B38*INDEX(IPC_Valeur,MATCH(Fin,IPC_Annee,0))/C38 | E38: =IF(AND(A38>=Debut,A38<=Fin),D38,NA()) | F38: =SUMIFS(Loyers_Montant,Loyers_Annee,A38,Loyers_Type,"Studio") | G38: =SUMIFS(Loyers_Montant,Loyers_Annee,A38,Loyers_Type,"1 chambre") | H38: =SUMIFS(Loyers_Montant,Loyers_Annee,A38,Loyers_Type,"2 chambres") | I38: =SUMIFS(Loyers_Montant,Loyers_Annee,A38,Loyers_Type,"3 chambres") | AJ38: 1231.98 | AK38: 1282.71 | AM38: 1228.67 | AN38: 1155.32 | AP38: 1110.97 | AQ38: 1126.67
AJ39: 1242.84 | AK39: 1298.7 | AM39: 1229.75 | AN39: 1151.17 | AP39: 1114.72 | AQ39: 1124.13
AJ40: 1239 | AK40: 1313.94 | AM40: 1235.86 | AN40: 1145.04 | AP40: 1115.9 | AQ40: 1115.39
A41: Ville | B41: Loyer début | C41: Loyer fin | D41: Hausse | E41: Rang | F41: Ville (triée) | G41: Hausse (triée) | AJ41: 1247.22 | AK41: 1303.26 | AM41: 1237.85 | AN41: 1143.62 | AP41: 1118.7 | AQ41: 1115.73
A42: Montréal | B42: =INDEX(Villes_Loyers,MATCH(Debut,Villes_Annees,0),MATCH(A42,Villes_Noms,0)) | C42: =INDEX(Villes_Loyers,MATCH(Fin,Villes_Annees,0),MATCH(A42,Villes_Noms,0)) | D42: =C42/B42-1+ROW()/1E9 | E42: =RANK(D42,$D$42:$D$47,0) | F42: =INDEX($A$42:$A$47,MATCH(1,$E$42:$E$47,0)) | G42: =INDEX($D$42:$D$47,MATCH(1,$E$42:$E$47,0)) | AJ42: 1247.55 | AK42: 1315.1 | AM42: 1245.25 | AN42: 1145.69 | AP42: 1123.08 | AQ42: 1096.44
A43: Québec | B43: =INDEX(Villes_Loyers,MATCH(Debut,Villes_Annees,0),MATCH(A43,Villes_Noms,0)) | C43: =INDEX(Villes_Loyers,MATCH(Fin,Villes_Annees,0),MATCH(A43,Villes_Noms,0)) | D43: =C43/B43-1+ROW()/1E9 | E43: =RANK(D43,$D$42:$D$47,0) | F43: =INDEX($A$42:$A$47,MATCH(2,$E$42:$E$47,0)) | G43: =INDEX($D$42:$D$47,MATCH(2,$E$42:$E$47,0)) | AJ43: 1233 | AK43: 1312.16 | AM43: 1246.7 | AN43: 1145.2 | AP43: 1125.6 | AQ43: 1089.88
...
